BEGIN:VCALENDAR
VERSION:2.0
PRODID:-//https://vsdekleinejohannes.nl///NONSGML kigkonsult.se iCalcreator 2.10.15//
METHOD:PUBLISH
BEGIN:VEVENT
UID:20260421T112230CEST-3593tuM16F@https://vsdekleinejohannes.nl/
DTSTAMP:20260421T092230Z
DESCRIPTION:Kinderen zijn om 13.00 uur uit.
DTSTART:20200408T220000Z
LOCATION:Vrijeschool De Kleine Johannes (Oosterstraat 3A\, 7413 XV Deventer
 \, Nederland)
SUMMARY:Paas viering
END:VEVENT
END:VCALENDAR
