BEGIN:VCALENDAR
VERSION:2.0
PRODID:-//https://vsdekleinejohannes.nl///NONSGML kigkonsult.se iCalcreator 2.10.15//
METHOD:PUBLISH
BEGIN:VEVENT
UID:20260421T192911CEST-0282dNvVNf@https://vsdekleinejohannes.nl/
DTSTAMP:20260421T172911Z
DESCRIPTION:
DTSTART:20190712T230000Z
DTEND:20190824T230000Z
LOCATION:Vrijeschool De Kleine Johannes (Oosterstraat 3A\, 7413 XV Deventer
 \, Nederland)
SUMMARY:Zomervakantie
END:VEVENT
END:VCALENDAR
